BEGIN:VCALENDAR
VERSION:2.0
PRODID:-//wp-events-plugin.com//6.4.6.4//EN
TZID:Europe/Paris
X-WR-TIMEZONE:Europe/Paris
BEGIN:VEVENT
UID:22@regardsdugrandparis.fr
DTSTART;TZID=Europe/Paris:20220914T180000
DTEND;TZID=Europe/Paris:20220914T210000
DTSTAMP:20220727T160037Z
URL:https://regardsdugrandparis.fr/en/events/guided-tour-of-the-exhibition
 -at-pont-saint-ange/
SUMMARY:Guided tour of the exhibition at Pont Saint Ange
DESCRIPTION:The city of the 10th and 18th arrondissements of Paris invite y
 ou to a guided tour of the exhibition by the artists Lucie Jean\, Baudoin 
 Mouanda and Marion Poussier. Their works are displayed on the gates of the
  Pont Saint Ange in Paris.\n\nMeet on the forecourt of the Théâtre des B
 ouffes du Nord\n37 bis boulevard de la Chapelle\, 75010 Paris
LOCATION:Pont Saint Ange\, 37 bis boulevard de la Chapelle\, Paris\, 75010\
 , France
GEO:48.884152;2.358895
X-APPLE-STRUCTURED-LOCATION;VALUE=URI;X-ADDRESS=37 bis boulevard de la Chap
 elle\, Paris\, 75010\, France;X-APPLE-RADIUS=100;X-TITLE=Pont Saint Ange:g
 eo:48.884152,2.358895
END:VEVENT
BEGIN:VTIMEZONE
TZID:Europe/Paris
X-LIC-LOCATION:Europe/Paris
BEGIN:DAYLIGHT
DTSTART:20220327T030000
TZOFFSETFROM:+0100
TZOFFSETTO:+0200
TZNAME:CEST
END:DAYLIGHT
END:VTIMEZONE
END:VCALENDAR