BEGIN:VCALENDAR
VERSION:2.0
PRODID:-//wp-events-plugin.com//6.4.6.4//EN
TZID:Europe/Paris
X-WR-TIMEZONE:Europe/Paris
BEGIN:VEVENT
UID:20@regardsdugrandparis.fr
DTSTART;TZID=Europe/Paris:20220917T140000
DTEND;TZID=Europe/Paris:20220917T210000
DTSTAMP:20220909T214014Z
URL:https://regardsdugrandparis.fr/en/events/intersecting-views/
SUMMARY:Intersecting views
DESCRIPTION:\n\n\n\n\nRegards Croisés invites the artists and associated v
 iews of the Regards du Grand Paris exhibition to dialogue with the curator
 ial team and the public for an afternoon.\n\nWhat is Greater Paris? From e
 veryday realities to the works of the national photography collection\, ma
 ny issues of the world city are explored: intimate\, political\, sensitive
  or structural\, a thousand and one situations are offered to the eyes of 
 the artists they share with us today.\n\nSee french page for full details 
 (in French).\n\n\n\n\n
LOCATION:Magasins généraux\, 1 rue de l'ancien canal\, Pantin\, 93500\, 
 Île-de-France\, France
GEO:48.894689;2.416243
X-APPLE-STRUCTURED-LOCATION;VALUE=URI;X-ADDRESS=1 rue de l'ancien canal\, P
 antin\, 93500\, Île-de-France\, France;X-APPLE-RADIUS=100;X-TITLE=Magasin
 s généraux:geo:48.894689,2.416243
END:VEVENT
BEGIN:VTIMEZONE
TZID:Europe/Paris
X-LIC-LOCATION:Europe/Paris
BEGIN:DAYLIGHT
DTSTART:20220327T030000
TZOFFSETFROM:+0100
TZOFFSETTO:+0200
TZNAME:CEST
END:DAYLIGHT
END:VTIMEZONE
END:VCALENDAR