BEGIN:VCALENDAR
VERSION:2.0
PRODID:-//wp-events-plugin.com//6.4.6.4//EN
TZID:Europe/Paris
X-WR-TIMEZONE:Europe/Paris
BEGIN:VEVENT
UID:14@regardsdugrandparis.fr
DTSTART;TZID=Europe/Paris:20220625T170000
DTEND;TZID=Europe/Paris:20220625T220000
DTSTAMP:20220627T132329Z
URL:https://regardsdugrandparis.fr/en/events/km10-site-celebration-in-sevr
 an-beaudottes/
SUMMARY:KM10 — Site celebration in Sevran Beaudottes
DESCRIPTION:\n\n\n\nThe work site for the future station of the Grand Paris
  Express in Sevran Beaudottes will open its doors to the public with artis
 tic programming and a festive tour around the region!\n\nLive performances
 \, an urban walking tour with Enlarge your Paris\, installations\, urban c
 ulture\, photography\, innovations and professions relating to the Grand P
 aris Express will be featured.\n\n 	From 5- 10 PM\n 	admission is free\n 	
 For more info\, culturenouveaumetro.fr\n\n\n\n
LOCATION:Sevran Beaudottes\, Avenue Salvador Allende\, Sevran\, 93500\, Îl
 e-de-France\, France
GEO:48.948347;2.530271
X-APPLE-STRUCTURED-LOCATION;VALUE=URI;X-ADDRESS=Avenue Salvador Allende\, S
 evran\, 93500\, Île-de-France\, France;X-APPLE-RADIUS=100;X-TITLE=Sevran 
 Beaudottes:geo:48.948347,2.530271
END:VEVENT
BEGIN:VTIMEZONE
TZID:Europe/Paris
X-LIC-LOCATION:Europe/Paris
BEGIN:DAYLIGHT
DTSTART:20220327T030000
TZOFFSETFROM:+0100
TZOFFSETTO:+0200
TZNAME:CEST
END:DAYLIGHT
END:VTIMEZONE
END:VCALENDAR