BEGIN:VCALENDAR
VERSION:2.0
PRODID:-//wp-events-plugin.com//6.4.6.4//EN
TZID:Europe/Paris
X-WR-TIMEZONE:Europe/Paris
BEGIN:VEVENT
UID:19@regardsdugrandparis.fr
DTSTART;TZID=Europe/Paris:20220916T180000
DTEND;TZID=Europe/Paris:20220916T235900
DTSTAMP:20220909T213914Z
URL:https://regardsdugrandparis.fr/en/events/night-of-perspectives/
SUMMARY:Night of Perspectives
DESCRIPTION:As an extension of the exhibition\, carte blanche is given to s
 everal collectives (journalists\, critics or artists) emerging or committe
 d to the current scene: Contemporaines\, Kiffe ta race\, Kourtrajmeuf\, Ma
 nifesto XXI and Seumboy Vrainom:€.\n\nThey share\, with the public\, the
 ir concerns about the future and responsibilities of artistic and politica
 l representations.\n\nA DJ set at the Magasins généraux ends the evening
 .\n\nSee french page for full details (in French).
LOCATION:Magasins généraux\, 1 rue de l'ancien canal\, Pantin\, 93500\, 
 Île-de-France\, France
GEO:48.894689;2.416243
X-APPLE-STRUCTURED-LOCATION;VALUE=URI;X-ADDRESS=1 rue de l'ancien canal\, P
 antin\, 93500\, Île-de-France\, France;X-APPLE-RADIUS=100;X-TITLE=Magasin
 s généraux:geo:48.894689,2.416243
END:VEVENT
BEGIN:VTIMEZONE
TZID:Europe/Paris
X-LIC-LOCATION:Europe/Paris
BEGIN:DAYLIGHT
DTSTART:20220327T030000
TZOFFSETFROM:+0100
TZOFFSETTO:+0200
TZNAME:CEST
END:DAYLIGHT
END:VTIMEZONE
END:VCALENDAR