BEGIN:VCALENDAR
VERSION:2.0
PRODID:-//wp-events-plugin.com//6.4.6.4//EN
TZID:Europe/Paris
X-WR-TIMEZONE:Europe/Paris
BEGIN:VEVENT
UID:17@regardsdugrandparis.fr
DTSTART;TZID=Europe/Paris:20220827T100000
DTEND;TZID=Europe/Paris:20220827T180000
DTSTAMP:20220627T133329Z
URL:https://regardsdugrandparis.fr/en/events/pedestrian-tour-walking-in-he
 ight-nature-and-culture/
SUMMARY:Pedestrian Tour  - « Walking in height »\, nature and culture
DESCRIPTION:\n\n\n\n\n\n\nFrom August 17 to 28\, Enlarge your Paris and the
  Société du Grand Paris will be organizing the third edition of the Walk
 ing Tour of 'le Grand Paris\,' a two hundred kilometer loop\, following al
 ong the future lines of the Grand Paris Express\, discovering the green sp
 aces in the metropolitan area! Two stages of the tour allow for seeing the
  exhibition Regards du Grand Paris\, displayed on the fencing on the const
 ruction sites for the future metro\, the Grand Paris Express.\n\n\n\n\n\n\
 n\n\n\n\n\n\n\n\n\n\nWalking from the station in Val-de-Fontenay to the me
 tro station of the Fort d’Aubervilliers\, the hikers and walkers will be
  traveling from the heights of the Plateau de Romainville and the far end 
 of the Plaine de France\, walking through a number of green spaces in Mont
 reuil\, les Lilas\, Romainville and Pantin. This slightly up-in-the-air pa
 th running from parks to gardens\, will lead us to the Magasins généraux
  in Pantin\, a center for artistic creation\, and a partner of the exhibit
 ion Regards du Grand Paris.\n\n 	Admission free\, per availability.\n 	For
  more information on the Walking Tour: :enlargeyourparis.fr\n\n\n\n\n\n\n\
 n\n\n\n\n\n\n\n\n\n\n\n\n\n\n\n\n\n\n\n
LOCATION:Gare Val de Fontenay\, 10\, avenue du Val-de-Fontenay\, Fontenay-s
 ous-Bois \, 94120\, France
GEO:48.853303;2.488004
X-APPLE-STRUCTURED-LOCATION;VALUE=URI;X-ADDRESS=10\, avenue du Val-de-Fonte
 nay\, Fontenay-sous-Bois \, 94120\, France;X-APPLE-RADIUS=100;X-TITLE=Gare
  Val de Fontenay:geo:48.853303,2.488004
END:VEVENT
BEGIN:VTIMEZONE
TZID:Europe/Paris
X-LIC-LOCATION:Europe/Paris
BEGIN:DAYLIGHT
DTSTART:20220327T030000
TZOFFSETFROM:+0100
TZOFFSETTO:+0200
TZNAME:CEST
END:DAYLIGHT
END:VTIMEZONE
END:VCALENDAR