BEGIN:VCALENDAR
VERSION:2.0
PRODID:-//wp-events-plugin.com//6.4.6.4//EN
TZID:Europe/Paris
X-WR-TIMEZONE:Europe/Paris
BEGIN:VEVENT
UID:7@regardsdugrandparis.fr
DTSTART;TZID=Europe/Paris:20220623T210000
DTEND;TZID=Europe/Paris:20220624T050000
DTSTAMP:20220620T075756Z
URL:https://regardsdugrandparis.fr/events/after-party-a-la-station-gare-de
 s-mines/
SUMMARY:After party à La Station - Gare des  Mines
DESCRIPTION:Rendez-vous à La Station – Gare des Mines pour fêter le lan
 cement de l'exposition Regards du Grand Paris avec Rad Cartier\, Uzi Freyj
 a\, Aamourocean\, Fatal Walima\, Etienne Tron.\n\n\n\nEtienne Tron – Rad
 io Secousse\nSecousse est une radio\, un label et un soundsystem marseilla
 is\, créé par le DJ Etienne Tron. Secousse s’attache à faire découvr
 ir de la musique “oubliée\, incomprise\, rebelle ou controversée” de
  tous les continents et de toutes les époques.\n→ https://soundcloud.co
 m/secousse\n\nRad Cartier (live)\nAvec son style mêlant cloud rap\, trap 
 et zouk\, Rad Cartier trace une voie singulière dans le paysage rap hexag
 onal. Passionnée par la mode\, le rappeur orléanais se distingue par ses
  productions éthérées\, son flow millimétré et ses clips à l’esth
 étique ultra léchée.\n→ https://soundcloud.com/radcartier\n\nUzi Frey
 ja (live)\nUzi Freyja est un trio formé par la rappeuse Kelly Rose et ses
  producteurs acolytes\, Stuntman5 et FotonDanger. Signé chez WARRIORECORD
 S\, iels se sont fait connaître en une poignée de titres abrasifs à la 
 croisée entre trap alien et grime made in UK.\n→ https://soundcloud.com
 /uzifreyja-music/sets/stand-566910871\n\nFatal Walima (live)\nDJ\, composi
 teur et membre de la fédération Boukan\, Fatal Walima infuse son amour p
 our l'afro-house breakée et la techno dans tous ses projets. Après avoir
  sorti une pelletée de tracks incendiaires\, il prépare un court-métrag
 e et s’apprête à sortir son premier album.\n→ https://soundcloud.com
 /fatalwalima\n\nAamourocean (dj)\nTrance\, hardstyle\, bass : aamourocean 
 empile des bangers monumentaux comme les quêtes dans un jeu vidéo épiqu
 e. Après une poignée de singles\, d’EP et de collaborations bien senti
 es\, il est en passe de sortir son premier LP avec Détente. Stay tuned…
 \n→ https://soundcloud.com/aamourocean\n\nCherry B Diamond (dj) [annulé
 ]\nS’ébrouant avec fantaisie dans les marges de la musique électroniqu
 e contemporaine\, Cherry B Diamond joue\, assemble et transmet PC music\, 
 hardbass\, dissolved reggaeton et plus encore. Elle forme aussi la moitié
  du duo Mercedeath.\n→ https://soundcloud.com/cherry-b-diamond\n\n\n\nPa
 s de vestiaires\nTickets en vente sur place (12 €) dans la limite des pl
 aces disponibles\n\nPlus d'information sur le site web de La Station
LOCATION:La Station – Gare des Mines\, 29 avenue de la Porte d'Aubervilli
 ers\, Paris\, 75018\, Île-de-France\, France
GEO:48.901231;2.36987
X-APPLE-STRUCTURED-LOCATION;VALUE=URI;X-ADDRESS=29 avenue de la Porte d'Aub
 ervilliers\, Paris\, 75018\, Île-de-France\, France;X-APPLE-RADIUS=100;X-
 TITLE=La Station – Gare des Mines:geo:48.901231,2.36987
END:VEVENT
BEGIN:VTIMEZONE
TZID:Europe/Paris
X-LIC-LOCATION:Europe/Paris
BEGIN:DAYLIGHT
DTSTART:20220327T030000
TZOFFSETFROM:+0100
TZOFFSETTO:+0200
TZNAME:CEST
END:DAYLIGHT
END:VTIMEZONE
END:VCALENDAR