BEGIN:VCALENDAR
VERSION:2.0
PRODID:-//wp-events-plugin.com//6.4.6.4//EN
TZID:Europe/Paris
X-WR-TIMEZONE:Europe/Paris
BEGIN:VEVENT
UID:3@regardsdugrandparis.fr
DTSTART;TZID=Europe/Paris:20220625T170000
DTEND;TZID=Europe/Paris:20220625T220000
DTSTAMP:20220619T095727Z
URL:https://regardsdugrandparis.fr/events/km10-fe%cc%82te-de-chantier-a-se
 vran-beaudottes/
SUMMARY:KM10 — Fête de chantier à Sevran Beaudottes
DESCRIPTION:\n\n\n\nLe chantier de la future gare du Grand Paris Express à
  Sevran Beaudottes ouvre exceptionnellement ses portes au public avec une 
 programmation artistique et festive tournée vers le territoire qui l’en
 toure !\n\nSpectacle vivant\, balade urbaine avec Enlarge your Paris\, ins
 tallations\, cultures urbaines\, photographie\, innovations et métiers du
  Grand Paris Express seront à l’honneur.\n\nDe 17h à 22h\nEntrée libr
 e et gratuite\nEn savoir plus sur culturenouveaumetro.fr\n\n\n\n
LOCATION:Sevran Beaudottes\, Avenue Salvador Allende\, Sevran\, 93500\, Îl
 e-de-France\, France
GEO:48.948347;2.530271
X-APPLE-STRUCTURED-LOCATION;VALUE=URI;X-ADDRESS=Avenue Salvador Allende\, S
 evran\, 93500\, Île-de-France\, France;X-APPLE-RADIUS=100;X-TITLE=Sevran 
 Beaudottes:geo:48.948347,2.530271
END:VEVENT
BEGIN:VTIMEZONE
TZID:Europe/Paris
X-LIC-LOCATION:Europe/Paris
BEGIN:DAYLIGHT
DTSTART:20220327T030000
TZOFFSETFROM:+0100
TZOFFSETTO:+0200
TZNAME:CEST
END:DAYLIGHT
END:VTIMEZONE
END:VCALENDAR