BEGIN:VCALENDAR
VERSION:2.0
PRODID:-//wp-events-plugin.com//6.4.6.4//EN
TZID:Europe/Paris
X-WR-TIMEZONE:Europe/Paris
BEGIN:VEVENT
UID:11@regardsdugrandparis.fr
DTSTART;TZID=Europe/Paris:20220827T100000
DTEND;TZID=Europe/Paris:20220827T180000
DTSTAMP:20220619T095747Z
URL:https://regardsdugrandparis.fr/events/le-tour-pieton-promenade-en-haut
 eur-entre-nature-et-culture/
SUMMARY:Le Tour piéton - « Promenade en hauteur »\, entre nature et cult
 ure
DESCRIPTION:\n\n\n\n\nDu 17 au 28 août\, Enlarge your Paris et la Sociét
 é du Grand Paris organisent la troisième édition du Tour piéton du Gra
 nd Paris\, une boucle de deux cents kilomètres le long des futures lignes
  du Grand Paris Express pour partir à la découverte des espaces verts de
  la métropole ! Deux étapes du tour permettent la découverte de l’exp
 osition Regards du Grand Paris sur les palissades des chantiers du futur m
 étro du Grand Paris Express.\n\n\n\n\n« Promenade en hauteur »\, entre 
 nature et culture\n\n\n\n\n\n\n\n\n\n\n\n\nDépart de la gare Val-de-Font
 enay (Lignes A et E du RER\, future ligne 15 Est)\, arrivée à la Stati
 on de métro Fort d’Aubervilliers (ligne 7\, ligne 15 Est). Parcours de
  15 km à la découverte du Plateau de Romainville et de l’extrémite
 ́ de la Plaine de France. Visite des Magasins généraux (Exposition de
 s Regards du Grand Paris) et diner à la friche de la Cité fertile à 
 Pantin.\n\nÀ voir au cours de la balade\n\nLa ligne des forts parisiens\,
  les sentes\, la promenade des hauteurs\, les anciens murs à pêches de
  Montreuil\, l’aqueduc de la Dhuys\, la corniche des forts\, le canal de
  l’Ourcq et les Magasins généraux\, la friche culturelle de la Cite
 ́ fertile.\n\n\n\n\n\n\n\n\n\n\n\n\n\n 	Gratuit dans la limite des places
  disponibles.\n 	Plus d’information sur enlargeyourparis.fr\n\n\n\n\n\n\
 n\n\n\n\n\n\n\n\n\n\n
LOCATION:Gare Val de Fontenay\, 10\, avenue du Val-de-Fontenay\, Fontenay-s
 ous-Bois \, 94120\, France
GEO:48.853303;2.488004
X-APPLE-STRUCTURED-LOCATION;VALUE=URI;X-ADDRESS=10\, avenue du Val-de-Fonte
 nay\, Fontenay-sous-Bois \, 94120\, France;X-APPLE-RADIUS=100;X-TITLE=Gare
  Val de Fontenay:geo:48.853303,2.488004
END:VEVENT
BEGIN:VTIMEZONE
TZID:Europe/Paris
X-LIC-LOCATION:Europe/Paris
BEGIN:DAYLIGHT
DTSTART:20220327T030000
TZOFFSETFROM:+0100
TZOFFSETTO:+0200
TZNAME:CEST
END:DAYLIGHT
END:VTIMEZONE
END:VCALENDAR