BEGIN:VCALENDAR
VERSION:2.0
PRODID:-//wp-events-plugin.com//6.4.6.4//EN
TZID:Europe/Paris
X-WR-TIMEZONE:Europe/Paris
BEGIN:VEVENT
UID:23@regardsdugrandparis.fr
DTSTART;TZID=Europe/Paris:20221001T200000
DTEND;TZID=Europe/Paris:20221002T020000
DTSTAMP:20220929T080445Z
URL:https://regardsdugrandparis.fr/events/nuit-blanche/
SUMMARY:Nuit blanche
DESCRIPTION:Soirée spéciale Nuit Blanche : visites de l'exposition « Reg
 ards du Grand Paris »  et 5 heures de DJ set avec Vénus Club.\n\nDes vi
 sites guidées à 𝟭𝟴𝗵\, 𝟮𝟬𝗵 et 𝟮𝟮𝗵\n\nUn parcou
 rs de visite d'environ une heure pour découvrir l’exposition « Regards
  du Grand Paris » au travers d’une sélection d’œuvres\, accompagné
  par un·e médiateur·rice culturel·le.\n\n𝟮𝟭𝗵-𝟮𝟯𝗵𝟯
 𝟬 — DJ set de Perdu et Retrouvé\n\nRaveuse dans l'âme\, Perdu et re
 trouvé se nourrit d’influences post-punk\, industrielle\, house\, élec
 tro et techno atmosphérique.\n\n𝟮𝟯𝗵𝟯𝟬-𝟮𝗵 — DJ Set 
 de Domi\n\nGrande fan d'électro des années 90-2000\, Domi parsème ses s
 ets de touches de techno\, de house et de breakbeat.\n\n 	Samedi 1er octob
 re de 20h à 2h\n 	Visite de l'exposition avec l'équipe de médiation jus
 qu'à minuit\n 	Bar et petite restauration en continu avec Le Relais Panti
 n\n 	Entrée libre et gratuite\n
LOCATION:Magasins généraux\, 1 rue de l'ancien canal\, Pantin\, 93500\, 
 Île-de-France\, France
GEO:48.894689;2.416243
X-APPLE-STRUCTURED-LOCATION;VALUE=URI;X-ADDRESS=1 rue de l'ancien canal\, P
 antin\, 93500\, Île-de-France\, France;X-APPLE-RADIUS=100;X-TITLE=Magasin
 s généraux:geo:48.894689,2.416243
END:VEVENT
BEGIN:VTIMEZONE
TZID:Europe/Paris
X-LIC-LOCATION:Europe/Paris
BEGIN:DAYLIGHT
DTSTART:20220327T030000
TZOFFSETFROM:+0100
TZOFFSETTO:+0200
TZNAME:CEST
END:DAYLIGHT
END:VTIMEZONE
END:VCALENDAR