BEGIN:VCALENDAR
VERSION:2.0
PRODID:-//wp-events-plugin.com//6.4.6.4//EN
TZID:Europe/Paris
X-WR-TIMEZONE:Europe/Paris
BEGIN:VEVENT
UID:5@regardsdugrandparis.fr
DTSTART;TZID=Europe/Paris:20220917T140000
DTEND;TZID=Europe/Paris:20220917T210000
DTSTAMP:20220927T125248Z
URL:https://regardsdugrandparis.fr/events/regards-croises/
SUMMARY:Regards croisés
DESCRIPTION:\n\n\n\n\nRegards croisés invite le temps d’un après-midi l
 es artistes et les regards associés des Regards du Grand Paris à dialogu
 er avec l’équipe curatoriale et le public\, autour des grandes thémati
 ques de l’exposition.\n\n14h30 — Regards du Grand Paris : une histoire
  de la commande photographique\nConversation entre Anne de Mondenard et Pa
 scal Beausse de l’équipe curatoriale.\n\n15h — Rue : cartographier le
  Grand Paris\nConversation entre Frédérique Aït-Touati\, historienne\, 
 Alexandra Arènes\, architecte\, Axelle Grégoire\, architecte\, Pascal Be
 ausse de l’équipe curatoriale\, et les artistes Camille Ayme\, Julien G
 uinand et Anne-Lise Seusse.\n\n15h45 — Monument : architectures et urban
 ités dans une ville en mutation\nConversation entre l’architecte Meriem
  Chabani\, Anna Labouze &amp\; Keimis Henni de l’équipe curatoriale\, e
 t les artistes Marion Poussier\, Julie Balagué et Sylvain Gouraud.\n\n16h
 30 — Fleuve : récits de ville et communautés\nConversation entre Anna 
 Labouze &amp\; Keimis Henni de l’équipe curatoriale\, et les artistes H
 annah Darabi et Benoît Grimbert\, Baudouin Mouanda et Gilberto Güiza-Roj
 as.\n\n17h15 — Parc : la ville et la coexistence de toutes les formes de
  vie\nConversation entre Clément Postec et Léonore Chirol de l’équipe
  curatoriale\, et les artistes Alexandra Serrano et Simon Pochet\, Geoffro
 y Mathieu\, Mathias Depardon et Guillaume Perrier.\n\n18h — Place : inst
 itutions\, luttes et engagement politique\nConversation entre l’historie
 n Romain Bertrand\, Clément Postec et Léonore Chirol de l’équipe cura
 toriale\, et les artistes Khalil Nemmaoui\, Luise Schröder et Olivier Men
 anteau.\n\n19h à 21h — Les Sapeurs\nPerformance des Sapeurs et concert 
 de Papy Jah en écho au projet Sape : rêve aller et retour de Baudouin Mo
 uanda présenté dans l’exposition.\n\n\n\n\n
LOCATION:Magasins généraux\, 1 rue de l'ancien canal\, Pantin\, 93500\, 
 Île-de-France\, France
GEO:48.894689;2.416243
X-APPLE-STRUCTURED-LOCATION;VALUE=URI;X-ADDRESS=1 rue de l'ancien canal\, P
 antin\, 93500\, Île-de-France\, France;X-APPLE-RADIUS=100;X-TITLE=Magasin
 s généraux:geo:48.894689,2.416243
END:VEVENT
BEGIN:VTIMEZONE
TZID:Europe/Paris
X-LIC-LOCATION:Europe/Paris
BEGIN:DAYLIGHT
DTSTART:20220327T030000
TZOFFSETFROM:+0100
TZOFFSETTO:+0200
TZNAME:CEST
END:DAYLIGHT
END:VTIMEZONE
END:VCALENDAR